BEGIN:VCALENDAR
VERSION:2.0
PRODID:-//JVS of MetroWest - ECPv6.15.20//NONSGML v1.0//EN
CALSCALE:GREGORIAN
METHOD:PUBLISH
X-WR-CALNAME:JVS of MetroWest
X-ORIGINAL-URL:https://jvsnj.org
X-WR-CALDESC:Events for JVS of MetroWest
REFRESH-INTERVAL;VALUE=DURATION:PT1H
X-Robots-Tag:noindex
X-PUBLISHED-TTL:PT1H
BEGIN:VTIMEZONE
TZID:America/New_York
BEGIN:DAYLIGHT
TZOFFSETFROM:-0500
TZOFFSETTO:-0400
TZNAME:EDT
DTSTART:20240310T070000
END:DAYLIGHT
BEGIN:STANDARD
TZOFFSETFROM:-0400
TZOFFSETTO:-0500
TZNAME:EST
DTSTART:20241103T060000
END:STANDARD
BEGIN:DAYLIGHT
TZOFFSETFROM:-0500
TZOFFSETTO:-0400
TZNAME:EDT
DTSTART:20250309T070000
END:DAYLIGHT
BEGIN:STANDARD
TZOFFSETFROM:-0400
TZOFFSETTO:-0500
TZNAME:EST
DTSTART:20251102T060000
END:STANDARD
BEGIN:DAYLIGHT
TZOFFSETFROM:-0500
TZOFFSETTO:-0400
TZNAME:EDT
DTSTART:20260308T070000
END:DAYLIGHT
BEGIN:STANDARD
TZOFFSETFROM:-0400
TZOFFSETTO:-0500
TZNAME:EST
DTSTART:20261101T060000
END:STANDARD
END:VTIMEZONE
BEGIN:VEVENT
DTSTART;TZID=America/New_York:20250321T110000
DTEND;TZID=America/New_York:20250321T130000
DTSTAMP:20260419T123524
CREATED:20250219T181150Z
LAST-MODIFIED:20250219T181150Z
UID:10000300-1742554800-1742562000@jvsnj.org
SUMMARY:Transition and Recreation Fair - The Phoenix Center
DESCRIPTION:Transition and Recreation Fair \nhosted by The Phoenix Center \nMarch 21\, 2025\, 11:00am – 1:00pm \nJVS’s Disability Services department will be tabling at The Phoenix Center’s Transition and Recreation Fair on March 21. The fair invites parents\, caregivers\, district case managers\, child study teams — anyone working or living with students ages 5-21 that will at some point need transition services in preparation for life beyond the classroom — to learn about options in the local community. \n| Where: The Phoenix Center Gymnasium (https://www.thephoenixcenternj.org/) | 16 Monsignor Owens Place | Nutley\, NJ 07110 |
URL:https://jvsnj.org/event/transition-and-recreation-fair-the-phoenix-center/
LOCATION:The Phoenix Center\, 16 Monsignor Owens Place\, Nutley\, New Jersey\, 07110
CATEGORIES:Special Needs Resource Fair
ATTACH;FMTTYPE=image/png:https://jvsnj.org/wp-content/uploads/2025/02/Phoenix-Center-Logo-web.png
END:VEVENT
END:VCALENDAR