BEGIN:VCALENDAR
VERSION:2.0
PRODID:-//JVS of MetroWest - ECPv6.15.20//NONSGML v1.0//EN
CALSCALE:GREGORIAN
METHOD:PUBLISH
X-ORIGINAL-URL:https://jvsnj.org
X-WR-CALDESC:Events for JVS of MetroWest
REFRESH-INTERVAL;VALUE=DURATION:PT1H
X-Robots-Tag:noindex
X-PUBLISHED-TTL:PT1H
BEGIN:VTIMEZONE
TZID:America/New_York
BEGIN:DAYLIGHT
TZOFFSETFROM:-0500
TZOFFSETTO:-0400
TZNAME:EDT
DTSTART:20250309T070000
END:DAYLIGHT
BEGIN:STANDARD
TZOFFSETFROM:-0400
TZOFFSETTO:-0500
TZNAME:EST
DTSTART:20251102T060000
END:STANDARD
BEGIN:DAYLIGHT
TZOFFSETFROM:-0500
TZOFFSETTO:-0400
TZNAME:EDT
DTSTART:20260308T070000
END:DAYLIGHT
BEGIN:STANDARD
TZOFFSETFROM:-0400
TZOFFSETTO:-0500
TZNAME:EST
DTSTART:20261101T060000
END:STANDARD
BEGIN:DAYLIGHT
TZOFFSETFROM:-0500
TZOFFSETTO:-0400
TZNAME:EDT
DTSTART:20270314T070000
END:DAYLIGHT
BEGIN:STANDARD
TZOFFSETFROM:-0400
TZOFFSETTO:-0500
TZNAME:EST
DTSTART:20271107T060000
END:STANDARD
END:VTIMEZONE
BEGIN:VEVENT
DTSTART;TZID=America/New_York:20260429T150000
DTEND;TZID=America/New_York:20260429T160000
DTSTAMP:20260423T223818
CREATED:20260423T193938Z
LAST-MODIFIED:20260423T213014Z
UID:10000394-1777474800-1777478400@jvsnj.org
SUMMARY:In-Person Information Session: Electrocardiogram Technician and Phlebotomy Technician Training
DESCRIPTION:Join us for an Information Session to learn more about the Certified Electrocardiogram Technician and Certified Phlebotomy Technician training programs. \nThis session is in person on Wednesday\, April 29\, 2026 at 3 p.m. \nLocation: 7 Glenwood Ave\, Lower Level\, East Orange NJ. \nFor more information\, please contact Deniese Hicks\, Dhicks@jvsnj.edu / 862-704-2284
URL:https://jvsnj.org/event/in-person-information-session-certified-ekg-phlebotomy-technician/
LOCATION:East Orange\, 7 Glenwood Avenue\, East Orange\, NJ\, 07017\, United States
CATEGORIES:EKG Technician
ATTACH;FMTTYPE=image/jpeg:https://jvsnj.org/wp-content/uploads/2026/04/EKG-and-Phlebotomy.jpg
END:VEVENT
BEGIN:VEVENT
DTSTART;TZID=America/New_York:20260505T170000
DTEND;TZID=America/New_York:20260505T180000
DTSTAMP:20260423T223818
CREATED:20260423T194347Z
LAST-MODIFIED:20260423T213236Z
UID:10000395-1778000400-1778004000@jvsnj.org
SUMMARY:Virtual Information Session: Electrocardiogram Technician and Phlebotomy Technician Training
DESCRIPTION:Join us for an Information Session to learn more about the Certified Electrocardiogram Technician and Certified Phlebotomy Technician training programs. \nThis session is virtual on Wednesday\, May 5\, 2026\, at 5 p.m. \nPlease email Deniese Hicks\, Dhicks@jvsnj.edu for the link to the information session. Questions? Call Denise at 862-704-2284.
URL:https://jvsnj.org/event/virtual-information-session-certified-ekg-phlotobotemy-technician/
LOCATION:Virtual\, United States
CATEGORIES:EKG Technician
ATTACH;FMTTYPE=image/jpeg:https://jvsnj.org/wp-content/uploads/2026/04/EKG-and-Phlebotomy.jpg
END:VEVENT
END:VCALENDAR